BEGIN:VCALENDAR
VERSION:2.0
PRODID:-//Friends of Guilford County - ECPv6.15.20//NONSGML v1.0//EN
CALSCALE:GREGORIAN
METHOD:PUBLISH
X-WR-CALNAME:Friends of Guilford County
X-ORIGINAL-URL:https://friendsofguilfordcountyanimalshelter.com
X-WR-CALDESC:Events for Friends of Guilford County
REFRESH-INTERVAL;VALUE=DURATION:PT1H
X-Robots-Tag:noindex
X-PUBLISHED-TTL:PT1H
BEGIN:VTIMEZONE
TZID:UTC
BEGIN:STANDARD
TZOFFSETFROM:+0000
TZOFFSETTO:+0000
TZNAME:UTC
DTSTART:20220101T000000
END:STANDARD
END:VTIMEZONE
BEGIN:VEVENT
DTSTART;VALUE=DATE:20230930
DTEND;VALUE=DATE:20231001
DTSTAMP:20260422T121528
CREATED:20240308T095210Z
LAST-MODIFIED:20240308T095210Z
UID:20266-1696032000-1696118399@friendsofguilfordcountyanimalshelter.com
SUMMARY:Cornhole Tournament
DESCRIPTION:Thank you to our Sponsors and players who made our Cornhole Tournament a success. We raised $7\,300 for our enrichment programs which will benefit animals in the care of the GCAS!
URL:https://friendsofguilfordcountyanimalshelter.com/event/cornhole-tournament/
CATEGORIES:Past Events
ATTACH;FMTTYPE=image/webp:https://friendsofguilfordcountyanimalshelter.com/wp-content/uploads/2024/03/Cornhole-Trounament-September-2024.webp
END:VEVENT
END:VCALENDAR